BEGIN:VCALENDAR
VERSION:2.0
PRODID:-//Plone.org//NONSGML plone.app.event//EN
X-WR-TIMEZONE:America/Sao_Paulo
BEGIN:VEVENT
SUMMARY:823ª DEFESA DE DISSERTAÇÃO - CANDIDATA: Graziela Solferini Bacc
 arin
DTSTART;VALUE=DATE:20231130
DTEND;VALUE=DATE:20231201
DTSTAMP;VALUE=DATE-TIME:20260426T004818Z
UID:97bd723576704b519cb3da01ccf12a18@www.ppgq.ufscar.br:8000
CREATED;VALUE=DATE-TIME:20231127T145343Z
DESCRIPTION:Título da dissertação: “Avaliação do Uso da Carbodiimid
 a na Reciclagem de Tecidos a Base de Poliamida 6”
LAST-MODIFIED;VALUE=DATE-TIME:20231127T145346Z
URL:https://www.ppgq.ufscar.br/pt-br/eventos/823a-defesa-de-dissertacao-ca
 ndidata-graziela-solferini-baccarin
END:VEVENT
END:VCALENDAR
