BEGIN:VCALENDAR
VERSION:2.0
PRODID:-//Plone.org//NONSGML plone.app.event//EN
X-WR-TIMEZONE:America/Sao_Paulo
BEGIN:VEVENT
SUMMARY:864ª DEFESA DE TESE - CANDIDATO: Augusto Cesar Azevedo Silva
DTSTART;VALUE=DATE:20231214
DTEND;VALUE=DATE:20231215
DTSTAMP;VALUE=DATE-TIME:20260426T004809Z
UID:8ec0baddbd524c34b0f0c418fe728d5e@www.ppgq.ufscar.br:8000
CREATED;VALUE=DATE-TIME:20231212T202814Z
DESCRIPTION:Título da tese: “Estudo Computacional de Nanoestruturas de 
 Ouro Funcionalizadas com Moléculas Orgânicas Quirais”
LAST-MODIFIED;VALUE=DATE-TIME:20231212T202818Z
URL:https://www.ppgq.ufscar.br/pt-br/eventos/864a-defesa-de-tese-candidato
 -augusto-cesar-azevedo-silva
END:VEVENT
END:VCALENDAR
