BEGIN:VCALENDAR
VERSION:2.0
PRODID:-//Plone.org//NONSGML plone.app.event//EN
X-WR-TIMEZONE:America/Sao_Paulo
BEGIN:VEVENT
SUMMARY:865ª DEFESA DE DISSERTAÇÃO - Mestranda: Jeysse Fatima Duarte
DTSTART;TZID=America/Sao_Paulo;VALUE=DATE-TIME:20260427T090000
DTSTAMP;VALUE=DATE-TIME:20260423T172328Z
UID:cd4083cf369a499aafa7d38f89b8053f@www.ppgq.ufscar.br:8000
CREATED;VALUE=DATE-TIME:20250318T131218Z
DESCRIPTION:“Avaliação de Estratégias para o Preparo de Amostras de P
 eixes Visando a Determinação de Nutrientes Inorgânicos por Técnica de 
 Plasma”
LAST-MODIFIED;VALUE=DATE-TIME:20260422T193421Z
URL:https://www.ppgq.ufscar.br/pt-br/eventos/865a-defesa-de-dissertacao-je
 ysse-fatima-duarte
END:VEVENT
BEGIN:VTIMEZONE
TZID:America/Sao_Paulo
X-LIC-LOCATION:America/Sao_Paulo
BEGIN:STANDARD
DTSTART;VALUE=DATE-TIME:20190216T230000
TZNAME:-03
TZOFFSETFROM:-0200
TZOFFSETTO:-0300
END:STANDARD
END:VTIMEZONE
END:VCALENDAR
