BEGIN:VCALENDAR
VERSION:2.0
PRODID:-//Plone.org//NONSGML plone.app.event//EN
X-WR-TIMEZONE:America/Sao_Paulo
BEGIN:VEVENT
SUMMARY:865ª DEFESA DE TESE - CANDIDATO: Cristian Hessel de Oliveira
DTSTART;VALUE=DATE:20231215
DTEND;VALUE=DATE:20231216
DTSTAMP;VALUE=DATE-TIME:20260426T004818Z
UID:5cac82cddf124c4fa8e5a5dcf1161404@www.ppgq.ufscar.br:8000
CREATED;VALUE=DATE-TIME:20231212T203015Z
DESCRIPTION:Título de tese: “Oxidação Fotoeletroquímica de Metanol\,
  Etileno Glicol e Glicerol em CdS\, BiVO4 e BiVO4:Zn-Mo/Pt”
LAST-MODIFIED;VALUE=DATE-TIME:20231212T203019Z
URL:https://www.ppgq.ufscar.br/pt-br/eventos/865a-defesa-de-tese-candidato
 -cristian-hessel-de-oliveira
END:VEVENT
END:VCALENDAR
