BEGIN:VCALENDAR
VERSION:2.0
PRODID:-//Plone.org//NONSGML plone.app.event//EN
X-WR-TIMEZONE:America/Sao_Paulo
BEGIN:VEVENT
SUMMARY:872ª DEFESA DE TESE - Doutorando: Gabriel da Silva Amaral
DTSTART;VALUE=DATE:20240328
DTEND;VALUE=DATE:20240329
DTSTAMP;VALUE=DATE-TIME:20260426T004808Z
UID:34db1e35f26c4149b37c9d017663416e@www.ppgq.ufscar.br:8000
CREATED;VALUE=DATE-TIME:20240328T113108Z
DESCRIPTION:Título: “Mecanismos de Resistência de Plantas Daninhas em 
 Pomares de Citros no Estado de São Paulo”.
LAST-MODIFIED;VALUE=DATE-TIME:20240328T113116Z
URL:https://www.ppgq.ufscar.br/pt-br/eventos/872a-defesa-de-tese-doutorand
 o-gabriel-da-silva-amaral
END:VEVENT
END:VCALENDAR
