BEGIN:VCALENDAR
VERSION:2.0
PRODID:-//Plone.org//NONSGML plone.app.event//EN
X-WR-TIMEZONE:America/Sao_Paulo
BEGIN:VEVENT
SUMMARY:874ª DEFESA DE TESE - Doutorando(a): Juliana Magalhães de Olive
 ira
DTSTART;VALUE=DATE:20240423
DTEND;VALUE=DATE:20240424
DTSTAMP;VALUE=DATE-TIME:20260426T004924Z
UID:8f2525e9e7fb42caa3775fa60aeb8a06@www.ppgq.ufscar.br:8000
CREATED;VALUE=DATE-TIME:20240410T133427Z
DESCRIPTION:Título: “Perfil Metabolômico para o Diagnóstico e Difere
 nciação de Diferentes Tipos de Doenças Hepáticas Colestáticas”.
LAST-MODIFIED;VALUE=DATE-TIME:20240410T133435Z
URL:https://www.ppgq.ufscar.br/pt-br/eventos/874a-defesa-de-tese-doutorand
 o-a-juliana-magalhaes-de-oliveira
END:VEVENT
END:VCALENDAR
