BEGIN:VCALENDAR
VERSION:2.0
PRODID:-//Plone.org//NONSGML plone.app.event//EN
X-WR-TIMEZONE:America/Sao_Paulo
BEGIN:VEVENT
SUMMARY:883ª DEFESA DE TESE - Doutorando(a): Katiana Lima do Patrocinio
DTSTART;VALUE=DATE:20240625
DTEND;VALUE=DATE:20240626
DTSTAMP;VALUE=DATE-TIME:20260422T120716Z
UID:d7faa5f701d94fe3935116ed20ffc848@www.ppgq.ufscar.br:8000
CREATED;VALUE=DATE-TIME:20240619T173607Z
DESCRIPTION:Título: “Modulation of Semiconductors through Doping with 
 Transition Metals: Morphological\, Optical and Electronic Properties”.
LAST-MODIFIED;VALUE=DATE-TIME:20240619T173615Z
URL:https://www.ppgq.ufscar.br/pt-br/eventos/883a-defesa-de-tese-doutorand
 o-a-katiana-lima-do-patrocinio
END:VEVENT
END:VCALENDAR
