BEGIN:VCALENDAR
VERSION:2.0
PRODID:-//Plone.org//NONSGML plone.app.event//EN
X-WR-TIMEZONE:America/Sao_Paulo
BEGIN:VEVENT
SUMMARY:DEFESA DE PROJETO - Doutorando: Cleiton Policarpo Martins da Silva
DTSTART;TZID=America/Sao_Paulo;VALUE=DATE-TIME:20260428T160000
DTSTAMP;VALUE=DATE-TIME:20260423T172257Z
UID:62fc566b3c244423a8b1d0fcfa2cd03b@www.ppgq.ufscar.br:8000
CREATED;VALUE=DATE-TIME:20230720T162528Z
DESCRIPTION:“Análise fundamental do Sn na redução eletroquímica de C
 O2: Mecanismos e estratégias de otimização para aplicação viável”
LAST-MODIFIED;VALUE=DATE-TIME:20260422T193016Z
URL:https://www.ppgq.ufscar.br/pt-br/eventos/defesa_projeto_cleiton_polica
 rpo_martins_da_silva
END:VEVENT
BEGIN:VTIMEZONE
TZID:America/Sao_Paulo
X-LIC-LOCATION:America/Sao_Paulo
BEGIN:STANDARD
DTSTART;VALUE=DATE-TIME:20190216T230000
TZNAME:-03
TZOFFSETFROM:-0200
TZOFFSETTO:-0300
END:STANDARD
END:VTIMEZONE
END:VCALENDAR
