BEGIN:VCALENDAR
VERSION:2.0
PRODID:-//Plone.org//NONSGML plone.app.event//EN
X-WR-TIMEZONE:America/Sao_Paulo
BEGIN:VEVENT
SUMMARY:EXAME DE QUALIFICAÇÃO - Doutoranda Chrystiaine Helena Campos de 
 Matos
DTSTART;VALUE=DATE:20231123
DTEND;VALUE=DATE:20231124
DTSTAMP;VALUE=DATE-TIME:20260426T004807Z
UID:baa0b8c3bb0845f8b70a3a1cb3a88636@www.ppgq.ufscar.br:8000
CREATED;VALUE=DATE-TIME:20231116T175420Z
DESCRIPTION:Título: “Avaliação da Influência de Diaphorina citri Kuw
 ayama no Perfil Químico de Murraya koenigii (L.) Spreng (Rutaceae)”
LAST-MODIFIED;VALUE=DATE-TIME:20231116T175423Z
URL:https://www.ppgq.ufscar.br/pt-br/eventos/exame-de-qualificacao-doutora
 nda-chrystiaine-helena-campos-de-matos
END:VEVENT
END:VCALENDAR
