BEGIN:VCALENDAR
VERSION:2.0
PRODID:-//Plone.org//NONSGML plone.app.event//EN
X-WR-TIMEZONE:America/Sao_Paulo
BEGIN:VEVENT
SUMMARY:EXAME DE QUALIFICAÇÃO - Doutorando(a): Aline de Sousa
DTSTART;VALUE=DATE:20240429
DTEND;VALUE=DATE:20240430
DTSTAMP;VALUE=DATE-TIME:20260425T224625Z
UID:328eba00a9af4a359381e729c4248c6a@www.ppgq.ufscar.br:8000
CREATED;VALUE=DATE-TIME:20240409T161507Z
DESCRIPTION:Título: “Pinturas Rupestres na Serra da Capivara: Explorand
 o o Letramento Científico em Química Através da Abordagem CTSA”.
LAST-MODIFIED;VALUE=DATE-TIME:20240409T161511Z
URL:https://www.ppgq.ufscar.br/pt-br/eventos/exame-de-qualificacao-doutora
 ndo-a-aline-de-sousa
END:VEVENT
END:VCALENDAR
