BEGIN:VCALENDAR
VERSION:2.0
PRODID:-//Plone.org//NONSGML plone.app.event//EN
X-WR-TIMEZONE:America/Sao_Paulo
BEGIN:VEVENT
SUMMARY:EXAME DE QUALIFICAÇÃO - Doutorando(a): Matheus Gabriel Guardian
 o dos Santos
DTSTART;VALUE=DATE:20240423
DTEND;VALUE=DATE:20240424
DTSTAMP;VALUE=DATE-TIME:20260426T004808Z
UID:557aeacbbe874ead95341de3f8775b9d@www.ppgq.ufscar.br:8000
CREATED;VALUE=DATE-TIME:20240410T133717Z
DESCRIPTION:Título: “Geração de Energia a Partir da Oxidação (Foto)
 eletrocatalítica de Diferentes Contaminantes Presentes em Biomassas”.
LAST-MODIFIED;VALUE=DATE-TIME:20240410T133721Z
URL:https://www.ppgq.ufscar.br/pt-br/eventos/exame-de-qualificacao-doutora
 ndo-a-matheus-gabriel-guardiano-dos-santos
END:VEVENT
END:VCALENDAR
