BEGIN:VCALENDAR
VERSION:2.0
PRODID:-//Plone.org//NONSGML plone.app.event//EN
X-WR-TIMEZONE:America/Sao_Paulo
BEGIN:VEVENT
SUMMARY:EXAME DE QUALIFICAÇÃO - Doutorando(a): Nádija Natalice Paixão
  da Silva
DTSTART;VALUE=DATE:20240429
DTEND;VALUE=DATE:20240430
DTSTAMP;VALUE=DATE-TIME:20260426T004807Z
UID:0221fa2e9b5c4c1f8f21872815f695e7@www.ppgq.ufscar.br:8000
CREATED;VALUE=DATE-TIME:20240419T143524Z
DESCRIPTION:Título: “Atividade Anticancerígena e Possíveis Alvos de C
 omplexos de Pd(II) e Pt(II) com Ligantes Terpiridínicos e Fosfínicos”.
LAST-MODIFIED;VALUE=DATE-TIME:20240419T143530Z
URL:https://www.ppgq.ufscar.br/pt-br/eventos/exame-de-qualificacao-doutora
 ndo-a-nadija-natalice-paixao-da-silva
END:VEVENT
END:VCALENDAR
