BEGIN:VCALENDAR
VERSION:2.0
PRODID:-//Plone.org//NONSGML plone.app.event//EN
X-WR-TIMEZONE:America/Sao_Paulo
BEGIN:VEVENT
SUMMARY:EXAME DE QUALIFICAÇÃO - Doutorando(a): Naiton Martins da Silva
DTSTART;VALUE=DATE:20240415
DTEND;VALUE=DATE:20240416
DTSTAMP;VALUE=DATE-TIME:20260426T004809Z
UID:bb970123b14f43d5a3d04e8df01be0b7@www.ppgq.ufscar.br:8000
CREATED;VALUE=DATE-TIME:20240408T171846Z
DESCRIPTION:Título: “Reciclagem de Resíduos Têxteis de Poliamida com 
 Carbodiimida e Funcionalização do Tecido Reciclado por Plasma de Fluoroc
 arbono”.
LAST-MODIFIED;VALUE=DATE-TIME:20240408T171851Z
URL:https://www.ppgq.ufscar.br/pt-br/eventos/exame-de-qualificacao-doutora
 ndo-a-naiton-martins-da-silva
END:VEVENT
END:VCALENDAR
