BEGIN:VCALENDAR
VERSION:2.0
PRODID:-//Plone.org//NONSGML plone.app.event//EN
X-WR-TIMEZONE:America/Sao_Paulo
BEGIN:VEVENT
SUMMARY:EXAME DE QUALIFICAÇÃO - Doutorando(a): Pedro Henrique Sousa Lop
 es
DTSTART;VALUE=DATE:20240425
DTEND;VALUE=DATE:20240426
DTSTAMP;VALUE=DATE-TIME:20260426T004808Z
UID:db939d3f16004bc3a5aa46550c9c0606@www.ppgq.ufscar.br:8000
CREATED;VALUE=DATE-TIME:20240411T165134Z
DESCRIPTION:Título: “Síntese e Caracterização de Nanopartículas de 
 Nióbio e Titânio Revestidas com Sílica Mesoporosa para o Estudo da Inte
 ração com Bactérias Endofíticas e Rizosféricas na Promoção de Cresc
 imento Vegetal”.
LAST-MODIFIED;VALUE=DATE-TIME:20240411T165141Z
URL:https://www.ppgq.ufscar.br/pt-br/eventos/exame-de-qualificacao-doutora
 ndo-a-pedro-henrique-sousa-lopes
END:VEVENT
END:VCALENDAR
