BEGIN:VCALENDAR
VERSION:2.0
PRODID:-//Plone.org//NONSGML plone.app.event//EN
X-WR-TIMEZONE:America/Sao_Paulo
BEGIN:VEVENT
SUMMARY:EXAME DE QUALIFICAÇÃO - Doutorando Saulo Henrique Mendes Abe
DTSTART;VALUE=DATE:20231121
DTEND;VALUE=DATE:20231122
DTSTAMP;VALUE=DATE-TIME:20260426T004808Z
UID:11644803cd414c5ea37c813a074db0f2@www.ppgq.ufscar.br:8000
CREATED;VALUE=DATE-TIME:20231116T175205Z
DESCRIPTION:Título: “Complexos Fosfínicos de Rutênio Contendo Produto
 s Naturais Orgânicos Como Ligantes: Estudo da Citotoxidade e Mecanismo de
  Ação”
LAST-MODIFIED;VALUE=DATE-TIME:20231116T175232Z
URL:https://www.ppgq.ufscar.br/pt-br/eventos/exame-de-qualificacao-doutora
 ndo-saulo-henrique-mendes-abe
END:VEVENT
END:VCALENDAR
