BEGIN:VCALENDAR
VERSION:2.0
PRODID:-//Plone.org//NONSGML plone.app.event//EN
X-WR-TIMEZONE:America/Sao_Paulo
BEGIN:VEVENT
SUMMARY:SEMINÁRIO - Doutoranda Maria Clara Santana Aguiar
DTSTART;VALUE=DATE:20231214
DTEND;VALUE=DATE:20231215
DTSTAMP;VALUE=DATE-TIME:20260426T004808Z
UID:a90e8e35b4f34d3f82538b38fb3ed9db@www.ppgq.ufscar.br:8000
CREATED;VALUE=DATE-TIME:20231212T192249Z
DESCRIPTION:Título: “Uso de Compostos Orgânicos Voláteis Como Estimul
 antes Vegetais: Um Estudo em Cultivares de Tomate”
LAST-MODIFIED;VALUE=DATE-TIME:20231212T192254Z
URL:https://www.ppgq.ufscar.br/pt-br/eventos/seminario-doutoranda-maria-cl
 ara-santana-aguiar
END:VEVENT
END:VCALENDAR
