BEGIN:VCALENDAR
VERSION:2.0
PRODID:-//Plone.org//NONSGML plone.app.event//EN
X-WR-TIMEZONE:America/Sao_Paulo
BEGIN:VEVENT
SUMMARY:SEMINÁRIO - Doutorando(a): Giuliana Thalina Franco
DTSTART;VALUE=DATE:20240417
DTEND;VALUE=DATE:20240418
DTSTAMP;VALUE=DATE-TIME:20260426T004818Z
UID:c5d45d48a41e473392edc048b0f8cfca@www.ppgq.ufscar.br:8000
CREATED;VALUE=DATE-TIME:20240408T172815Z
DESCRIPTION:Título: “Solution blow casting: uma nova estratégia para a
  produção de materiais biopoliméricos multicamadas”.
LAST-MODIFIED;VALUE=DATE-TIME:20240408T172819Z
URL:https://www.ppgq.ufscar.br/pt-br/eventos/seminario-doutorando-a-giulia
 na-thalina-franco
END:VEVENT
END:VCALENDAR
