BEGIN:VCALENDAR
VERSION:2.0
PRODID:-//Plone.org//NONSGML plone.app.event//EN
X-WR-TIMEZONE:America/Sao_Paulo
BEGIN:VEVENT
SUMMARY:SEMINÁRIO - Doutorando(a): José Lucas Vieira
DTSTART;VALUE=DATE:20240417
DTEND;VALUE=DATE:20240418
DTSTAMP;VALUE=DATE-TIME:20260426T004808Z
UID:b185dfaf358948daa6da36746e0fc52c@www.ppgq.ufscar.br:8000
CREATED;VALUE=DATE-TIME:20240408T173133Z
DESCRIPTION:Título: “The Impact of the Ratio Between Stronger and Weake
 r Acid Sites on the Production of 5-Hydroxymethylfurfural and Furfural fro
 m Monosaccharides”.
LAST-MODIFIED;VALUE=DATE-TIME:20240408T173219Z
URL:https://www.ppgq.ufscar.br/pt-br/eventos/seminario-doutorando-a-jose-l
 ucas-vieira
END:VEVENT
END:VCALENDAR
