BEGIN:VCALENDAR
VERSION:2.0
PRODID:-//Plone.org//NONSGML plone.app.event//EN
X-WR-TIMEZONE:America/Sao_Paulo
BEGIN:VEVENT
SUMMARY:SEMINÁRIO - Doutorando Gabriel Ali Atta Diab
DTSTART;VALUE=DATE:20231123
DTEND;VALUE=DATE:20231124
DTSTAMP;VALUE=DATE-TIME:20260426T004643Z
UID:90e8f60f276c49ab891f1c7eba42bd6a@www.ppgq.ufscar.br:8000
CREATED;VALUE=DATE-TIME:20231116T175545Z
DESCRIPTION:Título: “PHI/PTI-Single-Atoms Controlled Synthesis and Ener
 gy Applications”
LAST-MODIFIED;VALUE=DATE-TIME:20231116T175548Z
URL:https://www.ppgq.ufscar.br/pt-br/eventos/seminario-doutorando-gabriel-
 ali-atta-diab
END:VEVENT
END:VCALENDAR
