BEGIN:VCALENDAR
VERSION:2.0
PRODID:-//Plone.org//NONSGML plone.app.event//EN
X-WR-TIMEZONE:America/Sao_Paulo
BEGIN:VEVENT
SUMMARY:SEMINÁRIO - Doutorando Giovani Luiz Grespan
DTSTART;VALUE=DATE:20231215
DTEND;VALUE=DATE:20231216
DTSTAMP;VALUE=DATE-TIME:20260426T004808Z
UID:2302d67276ac43f0a37c5761746ea550@www.ppgq.ufscar.br:8000
CREATED;VALUE=DATE-TIME:20231212T193554Z
DESCRIPTION:Título: “Funcionamento de Eletrodos Negativos Tipo Na(f)/β
 /β”Al2O3/NaAlCl4(f)”
LAST-MODIFIED;VALUE=DATE-TIME:20231212T193601Z
URL:https://www.ppgq.ufscar.br/pt-br/eventos/seminario-doutorando-giovani-
 luiz-grespan
END:VEVENT
END:VCALENDAR
