BEGIN:VCALENDAR
VERSION:2.0
PRODID:-//Plone.org//NONSGML plone.app.event//EN
X-WR-TIMEZONE:America/Sao_Paulo
BEGIN:VEVENT
SUMMARY:SEMINÁRIO - Doutorando Leonardo Silva Dias
DTSTART;VALUE=DATE:20231204
DTEND;VALUE=DATE:20231205
DTSTAMP;VALUE=DATE-TIME:20260426T002752Z
UID:fb78045b749743c4944e257e0ce12972@www.ppgq.ufscar.br:8000
CREATED;VALUE=DATE-TIME:20231201T195045Z
DESCRIPTION:Título: “Estudo Teórico da Cinética Complexa de Processos
  Catalíticos”
LAST-MODIFIED;VALUE=DATE-TIME:20231201T195051Z
URL:https://www.ppgq.ufscar.br/pt-br/eventos/seminario-doutorando-leonardo
 -silva-dias
END:VEVENT
END:VCALENDAR
