BEGIN:VCALENDAR
VERSION:2.0
PRODID:-//Plone.org//NONSGML plone.app.event//EN
X-WR-TIMEZONE:America/Sao_Paulo
BEGIN:VEVENT
SUMMARY:Seminário Geral do PPGQ  - Ministrante: Dr. Leonardo Gomes
DTSTART;VALUE=DATE:20231124
DTEND;VALUE=DATE:20231125
DTSTAMP;VALUE=DATE-TIME:20260426T004809Z
UID:e87097930fd24b6aab4ed2441f428210@www.ppgq.ufscar.br:8000
CREATED;VALUE=DATE-TIME:20231116T183801Z
DESCRIPTION:Título: “Gravura e Química: o resíduo e a sustentabilida
 de como mediadores de novas relações entre arte\, ciência e educação
 ”
LAST-MODIFIED;VALUE=DATE-TIME:20231116T183810Z
URL:https://www.ppgq.ufscar.br/pt-br/eventos/seminario-geral-do-ppgq-minis
 trante-dr-leonardo-gomes
END:VEVENT
END:VCALENDAR
