BEGIN:VCALENDAR
VERSION:2.0
PRODID:-//Plone.org//NONSGML plone.app.event//EN
X-WR-TIMEZONE:America/Sao_Paulo
BEGIN:VEVENT
SUMMARY:Seminário Geral do PPGQ - Ministrante: Dr. Mauro Carlos Costa Rib
 eiro
DTSTART;VALUE=DATE:20231206
DTEND;VALUE=DATE:20231207
DTSTAMP;VALUE=DATE-TIME:20260426T004820Z
UID:45b69e7c926344f28925f4bf34fe0bf4@www.ppgq.ufscar.br:8000
CREATED;VALUE=DATE-TIME:20231201T195215Z
DESCRIPTION:Título: “Espectroscopia Raman e Transições de Fases de L
 íquidos Iônicos”
LAST-MODIFIED;VALUE=DATE-TIME:20231201T195218Z
URL:https://www.ppgq.ufscar.br/pt-br/eventos/seminario-geral-do-ppgq-minis
 trante-dr-mauro-carlos-costa-ribeiro
END:VEVENT
END:VCALENDAR
