BEGIN:VCALENDAR
VERSION:2.0
PRODID:-//Plone.org//NONSGML plone.app.event//EN
X-WR-TIMEZONE:America/Sao_Paulo
BEGIN:VEVENT
SUMMARY:Seminário Geral do PPGQ - Ministrante: Mariana Rodrigues Pezzo
DTSTART;VALUE=DATE:20240410
DTEND;VALUE=DATE:20240411
DTSTAMP;VALUE=DATE-TIME:20260426T004808Z
UID:22f683ec1aad40bd873c2c79e7c66511@www.ppgq.ufscar.br:8000
CREATED;VALUE=DATE-TIME:20240409T161005Z
DESCRIPTION:Título: “Cultura científica: o que\, para quem e como divu
 lgar a Ciência e o conhecimento”.
LAST-MODIFIED;VALUE=DATE-TIME:20240409T161013Z
URL:https://www.ppgq.ufscar.br/pt-br/eventos/seminario-geral-do-ppgq-minis
 trante-mariana-rodrigues-pezzo
END:VEVENT
END:VCALENDAR
