BEGIN:VCALENDAR
VERSION:2.0
PRODID:-//Plone.org//NONSGML plone.app.event//EN
X-WR-TIMEZONE:America/Sao_Paulo
BEGIN:VEVENT
SUMMARY:Seminário Geral do PPGQ - Profª Drª Fernanda de Lourdes Souza
DTSTART;VALUE=DATE:20240417
DTEND;VALUE=DATE:20240418
DTSTAMP;VALUE=DATE-TIME:20260425T155407Z
UID:d9b5227d2a2d49cda3f6d87d55aa6058@www.ppgq.ufscar.br:8000
CREATED;VALUE=DATE-TIME:20240412T140921Z
DESCRIPTION:Título: “Engenharia de Processos eletroquímicos para remed
 iação ambiental e sustentabilidade”.
LAST-MODIFIED;VALUE=DATE-TIME:20240412T140957Z
URL:https://www.ppgq.ufscar.br/pt-br/eventos/seminario-geral-do-ppgq-profa
 -dra-fernanda-de-lourdes-souza
END:VEVENT
END:VCALENDAR
