BEGIN:VCALENDAR
VERSION:2.0
PRODID:-//Plone.org//NONSGML plone.app.event//EN
X-WR-TIMEZONE:America/Sao_Paulo
BEGIN:VEVENT
SUMMARY:SEMINÁRIO - Mestranda Amanda Lyane Generoso
DTSTART;VALUE=DATE:20231128
DTEND;VALUE=DATE:20231129
DTSTAMP;VALUE=DATE-TIME:20260426T004810Z
UID:108380e3f95c49afa30b232bf86e31e5@www.ppgq.ufscar.br:8000
CREATED;VALUE=DATE-TIME:20231127T144441Z
DESCRIPTION:Título: “Desenvolvimento e Modificação a Plasma de Compó
 sitos a Base de Celulose Bacteriana/Ag3PO4 com Potencial Ação Antimicrob
 iana”
LAST-MODIFIED;VALUE=DATE-TIME:20231127T144716Z
URL:https://www.ppgq.ufscar.br/pt-br/eventos/seminario-mestranda-amanda-ly
 ane-generoso
END:VEVENT
END:VCALENDAR
